BEGIN:VCALENDAR
VERSION:2.0
PRODID:-//Tukios.com/
BEGIN:VEVENT
UID:c8ea3bab-45bb-4647-8bdc-2c5ac54f02bc@www.stewartandcarrollfuneralhome.com
DTSTAMP:20260423T185136Z
DTSTART:20260427T160000Z
DTEND:20260427T170000Z
SUMMARY:Funeral Service
DESCRIPTION:
URL:https://www.stewartandcarrollfuneralhome.com/obituaries/brenda-branson
LOCATION: 303 E Wood St  Paris IL 61944
GEO:39.6126159;-87.6903208
END:VEVENT
END:VCALENDAR