BEGIN:VCALENDAR
VERSION:2.0
PRODID:-//Tukios.com/
BEGIN:VEVENT
UID:1186f2f3-3eb9-4030-ac65-6661a82ce979@www.stewartandcarrollfuneralhome.com
DTSTAMP:20260423T185209Z
DTSTART:20260427T150000Z
DTEND:20260427T160000Z
SUMMARY:Visitation
DESCRIPTION:
URL:https://www.stewartandcarrollfuneralhome.com/obituaries/brenda-branson
LOCATION: 303 E Wood St  Paris IL 61944
GEO:39.6126159;-87.6903208
END:VEVENT
END:VCALENDAR